BEGIN:VCALENDAR
VERSION:2.0
PRODID:icalendar-ruby
CALSCALE:GREGORIAN
METHOD:PUBLISH
BEGIN:VTIMEZONE
TZID:Europe/Amsterdam
END:VTIMEZONE
BEGIN:VEVENT
DTSTAMP:20260421T082641Z
UID:56990808-1509-4307-92c6-ab8e76ba2d91
DTSTART:20260519T180000
DTEND:20260519T190000
CLASS:PUBLIC
DESCRIPTION:Poule: F
LOCATION:Hal 1 - Veld: 1
STATUS:CONFIRMED
SUMMARY:Van Slag: Balletje voor de Sfeer - Veldslag! 
TRANSP:TRANSPARENT
END:VEVENT
END:VCALENDAR
