BEGIN:VCALENDAR
VERSION:2.0
PRODID:icalendar-ruby
CALSCALE:GREGORIAN
METHOD:PUBLISH
BEGIN:VTIMEZONE
TZID:Europe/Amsterdam
END:VTIMEZONE
BEGIN:VEVENT
DTSTAMP:20260421T095538Z
UID:77b6e81b-931e-4e39-8841-0aa2be7be232
DTSTART:20260512T220000
DTEND:20260512T230000
CLASS:PUBLIC
DESCRIPTION:Poule: F
LOCATION:Hal 2 - Veld: 2
STATUS:CONFIRMED
SUMMARY:Van Slag: Sherblock Holmes - Veldslag! 
TRANSP:TRANSPARENT
END:VEVENT
END:VCALENDAR
