BEGIN:VCALENDAR
VERSION:2.0
PRODID:icalendar-ruby
CALSCALE:GREGORIAN
METHOD:PUBLISH
BEGIN:VTIMEZONE
TZID:Europe/Amsterdam
END:VTIMEZONE
BEGIN:VEVENT
DTSTAMP:20260421T095408Z
UID:593caf7d-2476-4f83-b0d2-7326c17420b5
DTSTART:20260512T220000
DTEND:20260512T230000
CLASS:PUBLIC
DESCRIPTION:Poule: F
LOCATION:Hal 2 - Veld: 1
STATUS:CONFIRMED
SUMMARY:Van Slag: SpongeBlock Squarepants  - Setisfire
TRANSP:TRANSPARENT
END:VEVENT
END:VCALENDAR
