BEGIN:VCALENDAR
VERSION:2.0
PRODID:icalendar-ruby
CALSCALE:GREGORIAN
METHOD:PUBLISH
BEGIN:VTIMEZONE
TZID:Europe/Amsterdam
END:VTIMEZONE
BEGIN:VEVENT
DTSTAMP:20260421T211556Z
UID:8582ecfe-8577-4f4e-87b3-a7ad9dbd2f16
DTSTART:20260512T210000
DTEND:20260512T220000
CLASS:PUBLIC
DESCRIPTION:Poule: E
LOCATION:Hal 2 - Veld: 3
STATUS:CONFIRMED
SUMMARY:Van Slag: Ballie en Ken - Volley-Vous?
TRANSP:TRANSPARENT
END:VEVENT
END:VCALENDAR
