BEGIN:VCALENDAR
VERSION:2.0
PRODID:icalendar-ruby
CALSCALE:GREGORIAN
METHOD:PUBLISH
BEGIN:VTIMEZONE
TZID:Europe/Amsterdam
END:VTIMEZONE
BEGIN:VEVENT
DTSTAMP:20260421T211155Z
UID:9916c2cb-818a-4eaf-8426-aec3003eefa7
DTSTART:20260512T210000
DTEND:20260512T220000
CLASS:PUBLIC
DESCRIPTION:Poule: E
LOCATION:Hal 2 - Veld: 2
STATUS:CONFIRMED
SUMMARY:Van Slag: Glas Half Volley - HELP! Mijn man is Blocker!
TRANSP:TRANSPARENT
END:VEVENT
END:VCALENDAR
