BEGIN:VCALENDAR
VERSION:2.0
PRODID:icalendar-ruby
CALSCALE:GREGORIAN
METHOD:PUBLISH
BEGIN:VTIMEZONE
TZID:Europe/Amsterdam
END:VTIMEZONE
BEGIN:VEVENT
DTSTAMP:20260421T211745Z
UID:07a76ba5-7b3f-4373-b835-76d3604f8ddf
DTSTART:20260512T210000
DTEND:20260512T220000
CLASS:PUBLIC
DESCRIPTION:Poule: E
LOCATION:Hal 2 - Veld: 1
STATUS:CONFIRMED
SUMMARY:Van Slag: Don't Stop Ballieving - Ballissimo
TRANSP:TRANSPARENT
END:VEVENT
END:VCALENDAR
