BEGIN:VCALENDAR
VERSION:2.0
PRODID:icalendar-ruby
CALSCALE:GREGORIAN
METHOD:PUBLISH
BEGIN:VTIMEZONE
TZID:Europe/Amsterdam
END:VTIMEZONE
BEGIN:VEVENT
DTSTAMP:20260421T082705Z
UID:670b67e7-6021-4fa0-b2c5-f299a6e23cef
DTSTART:20260428T200000
DTEND:20260428T210000
CLASS:PUBLIC
DESCRIPTION:Poule: F
LOCATION:Hal 2 - Veld: 2
STATUS:CONFIRMED
SUMMARY:Van Slag: Setisfire - Balletje voor de Sfeer
TRANSP:TRANSPARENT
END:VEVENT
END:VCALENDAR
