BEGIN:VCALENDAR
VERSION:2.0
PRODID:icalendar-ruby
CALSCALE:GREGORIAN
METHOD:PUBLISH
BEGIN:VTIMEZONE
TZID:Europe/Amsterdam
END:VTIMEZONE
BEGIN:VEVENT
DTSTAMP:20260421T082840Z
UID:5d264bc6-739d-49c3-8afe-42306270c78e
DTSTART:20260421T190000
DTEND:20260421T200000
CLASS:PUBLIC
DESCRIPTION:Poule: F
LOCATION:Hal 1 - Veld: 3
STATUS:CONFIRMED
SUMMARY:Van Slag: Setsy and we know it  - Veldslag! 
TRANSP:TRANSPARENT
END:VEVENT
END:VCALENDAR
