BEGIN:VCALENDAR
VERSION:2.0
PRODID:icalendar-ruby
CALSCALE:GREGORIAN
METHOD:PUBLISH
BEGIN:VTIMEZONE
TZID:Europe/Amsterdam
END:VTIMEZONE
BEGIN:VEVENT
DTSTAMP:20260421T095433Z
UID:2b25024e-0b8c-4ae5-a317-11ed8415832d
DTSTART:20260414T200000
DTEND:20260414T210000
CLASS:PUBLIC
DESCRIPTION:Poule: F
LOCATION:Hal 1 - Veld: 3
STATUS:CONFIRMED
SUMMARY:Van Slag: Sherblock Holmes - Balletje voor de Sfeer
TRANSP:TRANSPARENT
END:VEVENT
END:VCALENDAR
