BEGIN:VCALENDAR
VERSION:2.0
PRODID:icalendar-ruby
CALSCALE:GREGORIAN
METHOD:PUBLISH
BEGIN:VTIMEZONE
TZID:Europe/Amsterdam
END:VTIMEZONE
BEGIN:VEVENT
DTSTAMP:20260421T082705Z
UID:50cf2f89-b347-466b-aa78-5cbdc7ed8a8b
DTSTART:20260414T200000
DTEND:20260414T210000
CLASS:PUBLIC
DESCRIPTION:Poule: F
LOCATION:Hal 1 - Veld: 2
STATUS:CONFIRMED
SUMMARY:Van Slag: Setisfire - Veldslag! 
TRANSP:TRANSPARENT
END:VEVENT
END:VCALENDAR
